BEGIN:VCALENDAR
VERSION:2.0
PRODID:-//КДАіС
CALSCALE:GREGORIAN
METHOD:PUBLISH
X-WR-CALNAME:КДАіС
X-ORIGINAL-URL:https://kdais.kiev.ua/event/%d0%91%d0%bb%d0%b0%d0%b3%d0%be%d1%81%d0%bb%d0%be%d0%b2%d0%b5%d0%bd%d0%bd%d1%8f-%d0%bd%d0%b0-%d0%92%d0%b5%d0%bb%d0%b8%d0%ba%d0%b8%d0%b9-%d0%bf%d1%96%d1%81%d1%82-%d0%9f%d1%80%d0%b5%d0%b4%d1%81%d1%82/
X-WR-CALDESC:Благословення на Великий піст Предстоятеля Української Православної Церкви
BEGIN:VEVENT
DTSTART:20200301T213000
DTEND:20200301T213000
SUMMARY:Благословення на Великий піст Предстоятеля Української Православної Церкви
DESCRIPTION:Протягом Великого посту Блаженніший Митрополит Київський і всієї України Онуфрій благословив вірянам УПЦ щодня прочитувати по одній кафізмі з Псалтирі за мир в Україні та пом’якшення наших сердець.
LOCATION:
END:VEVENT
END:VCALENDAR
