BEGIN:VCALENDAR
VERSION:2.0
PRODID:-//КДАіС
CALSCALE:GREGORIAN
METHOD:PUBLISH
X-WR-CALNAME:КДАіС
X-ORIGINAL-URL:https://kdais.kiev.ua/event/%d0%92%d0%b8%d0%ba%d0%bb%d0%b0%d0%b4%d0%b0%d1%87-%d0%9a%d0%94%d0%90%d1%96%d0%a1-%d0%b2%d0%b7%d1%8f%d0%b2-%d1%83%d1%87%d0%b0%d1%81%d1%82%d1%8c-%d1%83-%d0%9c%d1%96%d0%b6%d0%bd%d0%b0%d1%80%d0%be%d0%b4/
X-WR-CALDESC:Викладач КДАіС взяв участь у Міжнародній науково-практичній конференції в Італії
BEGIN:VEVENT
DTSTART:20200229T213000
DTEND:20200229T213000
SUMMARY:Викладач КДАіС взяв участь у Міжнародній науково-практичній конференції в Італії
DESCRIPTION:Ієромонах Пантелеімон (Мельник) взяв участь у форумі, присвяченому вивченню питання штучного інтелекту.
LOCATION:
END:VEVENT
END:VCALENDAR
