BEGIN:VCALENDAR
VERSION:2.0
PRODID:-//КДАіС
CALSCALE:GREGORIAN
METHOD:PUBLISH
X-WR-CALNAME:КДАіС
X-ORIGINAL-URL:https://kdais.kiev.ua/event/%d0%9f%d0%b5%d1%80%d0%b5%d0%b4-%d0%bf%d0%be%d1%87%d0%b0%d1%82%d0%ba%d0%be%d0%bc-%d0%92%d0%b5%d0%bb%d0%b8%d0%ba%d0%be%d0%b3%d0%be-%d0%bf%d0%be%d1%81%d1%82%d1%83-%d0%9a%d0%b8%d1%97%d0%b2%d1%81%d1%8c/
X-WR-CALDESC:Перед початком Великого посту Київські духовні школи взяли участь у Чині прощення (+відео)
BEGIN:VEVENT
DTSTART:20200301T213000
DTEND:20200301T213000
SUMMARY:Перед початком Великого посту Київські духовні школи взяли участь у Чині прощення (+відео)
DESCRIPTION:Ректор, викладачі та учні КДАіС молились за Великою вечірнею та Чином прощення у Трапезному храмі на честь прпп. Антонія і Феодосія Печерських.
LOCATION:
END:VEVENT
END:VCALENDAR
