BEGIN:VCALENDAR
VERSION:2.0
PRODID:-//КДАіС
CALSCALE:GREGORIAN
METHOD:PUBLISH
X-WR-CALNAME:КДАіС
X-ORIGINAL-URL:https://kdais.kiev.ua/event/%d0%9f%d0%be%d1%85%d0%b2%d0%b0%d0%bb%d0%b0-%d0%9f%d1%80%d0%b5%d1%81%d0%b2%d1%8f%d1%82%d0%be%d1%97-%d0%91%d0%be%d0%b3%d0%be%d1%80%d0%be%d0%b4%d0%b8%d1%86%d1%96-%d0%a1%d1%83%d0%b1%d0%be%d1%82%d0%b0/
X-WR-CALDESC:Похвала Пресвятої Богородиці (Субота Акафіста)
BEGIN:VEVENT
DTSTART:20200403T203000
DTEND:20200403T203000
SUMMARY:Похвала Пресвятої Богородиці (Субота Акафіста)
DESCRIPTION:Богослужіння з читанням Акафіста Пресвятій Богородиці очолив керуючий справами УПЦ митрополит Бориспільський і Броварський Антоній.
LOCATION:
END:VEVENT
END:VCALENDAR
