BEGIN:VCALENDAR
VERSION:2.0
PRODID:-//КДАіС
CALSCALE:GREGORIAN
METHOD:PUBLISH
X-WR-CALNAME:КДАіС
X-ORIGINAL-URL:https://kdais.kiev.ua/event/%d0%95%d0%bf-%d0%a1%d0%b8%d0%bb%d1%8c%d0%b2%d0%b5%d1%81%d1%82%d1%80-%d0%a1%d1%82%d0%be%d0%b9%d1%87%d0%b5%d0%b2-%d0%9d%d0%b5%d0%b2%d0%b5%d1%81%d1%82%d0%b0-%d0%9d%d0%b5%d0%bd%d0%b5%d0%b2%d0%b5/
X-WR-CALDESC:Епископ Сильвестр (Стойчев) «Невеста Неневестная» (рос.)
BEGIN:VEVENT
DTSTART:20200403T203000
DTEND:20200403T203000
SUMMARY:Епископ Сильвестр (Стойчев) «Невеста Неневестная» (рос.)
DESCRIPTION:Размышление ректора Киевской духовной академии и семинарии епископа Белогородского Сильвестра о словосочетании "Невеста Неневестная" в Акафисте Пресвятой Богородицы, читаемом в день Похвалы Пресвятой Богородицы.
LOCATION:
END:VEVENT
END:VCALENDAR
