BEGIN:VCALENDAR
VERSION:2.0
PRODID:-//КДАіС
CALSCALE:GREGORIAN
METHOD:PUBLISH
X-WR-CALNAME:КДАіС
X-ORIGINAL-URL:https://kdais.kiev.ua/event/%d0%92-%d0%90%d0%ba%d0%b0%d0%b4%d0%b5%d0%bc%d1%96%d1%97-%d0%bf%d0%be%d0%bc%d0%be%d0%bb%d0%b8%d0%bb%d0%b8%d1%81%d1%8c-%d1%83-%d0%9d%d0%b5%d0%b4%d1%96%d0%bb%d1%8e-5-%d1%82%d1%83-%d0%92%d0%b5%d0%bb%d0%b8/
X-WR-CALDESC:В Академії помолились у Неділю 5-ту Великого посту, прп. Марії Єгипетської (+відео)
BEGIN:VEVENT
DTSTART:20200405T203000
DTEND:20200405T203000
SUMMARY:В Академії помолились у Неділю 5-ту Великого посту, прп. Марії Єгипетської (+відео)
DESCRIPTION:У Неділю 5-ту Великого посту, преподобної Марії Єгипетської, в Академічному храмі на честь Різдва Божої Матері були звершені дві Божественні літургії.
LOCATION:
END:VEVENT
END:VCALENDAR
