BEGIN:VCALENDAR
VERSION:2.0
PRODID:-//КДАіС
CALSCALE:GREGORIAN
METHOD:PUBLISH
X-WR-CALNAME:КДАіС
X-ORIGINAL-URL:https://kdais.kiev.ua/event/%d0%9d%d0%b0%d0%bf%d0%b5%d1%80%d0%b5%d0%b4%d0%be%d0%b4%d0%bd%d1%96-%d0%91%d0%bb%d0%b0%d0%b3%d0%be%d0%b2%d1%96%d1%89%d0%b5%d0%bd%d0%bd%d1%8f-%d0%9f%d1%80%d0%b5%d1%81%d0%b2%d1%8f%d1%82%d0%be%d1%97/
X-WR-CALDESC:Напередодні Благовіщення Пресвятої Богородиці в Академії звершена святкова вечірня (+відео)
BEGIN:VEVENT
DTSTART:20200406T203000
DTEND:20200406T203000
SUMMARY:Напередодні Благовіщення Пресвятої Богородиці в Академії звершена святкова вечірня (+відео)
DESCRIPTION:Богослужіння очолив проректор з виховної роботи єпископ Згурівський Амвросій.
LOCATION:
END:VEVENT
END:VCALENDAR
