BEGIN:VCALENDAR
VERSION:2.0
PRODID:-//КДАіС
CALSCALE:GREGORIAN
METHOD:PUBLISH
X-WR-CALNAME:КДАіС
X-ORIGINAL-URL:https://kdais.kiev.ua/event/%d0%9f%d0%b0%d1%81%d1%85%d0%b0%d0%bb%d1%8c%d0%bd%d0%b5-%d0%b2%d1%96%d1%82%d0%b0%d0%bd%d0%bd%d1%8f-%d1%80%d0%b5%d0%ba%d1%82%d0%be%d1%80%d0%b0-%d0%9a%d0%94%d0%90%d1%96%d0%a1-%d0%b2%d0%b8%d0%ba%d0%bb/
X-WR-CALDESC:Пасхальне вітання ректора КДАіС викладачам, співробітникам та учням Київських духовних шкіл
BEGIN:VEVENT
DTSTART:20200418T203000
DTEND:20200418T203000
SUMMARY:Пасхальне вітання ректора КДАіС викладачам, співробітникам та учням Київських духовних шкіл
DESCRIPTION:Ректор Київської духовної академії і семінарії єпископ Білогородський Сильвестр привітав викладачів, співробітників, студентів і вихованців зі Світлим Христовим Воскресінням.
LOCATION:
END:VEVENT
END:VCALENDAR
