BEGIN:VCALENDAR
VERSION:2.0
PRODID:-//КДАіС
CALSCALE:GREGORIAN
METHOD:PUBLISH
X-WR-CALNAME:КДАіС
X-ORIGINAL-URL:https://kdais.kiev.ua/event/%d0%92-%d0%9a%d0%b8%d1%97%d0%b2%d1%81%d1%8c%d0%ba%d0%b8%d1%85-%d0%b4%d1%83%d1%85%d0%be%d0%b2%d0%bd%d0%b8%d1%85-%d1%88%d0%ba%d0%be%d0%bb%d0%b0%d1%85-%d0%b7%d1%83%d1%81%d1%82%d1%80%d1%96%d0%bb%d0%b8/
X-WR-CALDESC:В Київських духовних школах молитовно зустріли Світле Христове Воскресіння
BEGIN:VEVENT
DTSTART:20200419T203000
DTEND:20200419T203000
SUMMARY:В Київських духовних школах молитовно зустріли Світле Христове Воскресіння
DESCRIPTION:Богослужіння з дотриманням усіх вимог карантину в Академічному храмі на честь Різдва Божої Матері звершили клірики храму.
LOCATION:
END:VEVENT
END:VCALENDAR
