BEGIN:VCALENDAR
VERSION:2.0
PRODID:-//КДАіС
CALSCALE:GREGORIAN
METHOD:PUBLISH
X-WR-CALNAME:КДАіС
X-ORIGINAL-URL:https://kdais.kiev.ua/event/%d0%86%d0%bd%d1%84%d0%be%d1%80%d0%bc%d0%b0%d1%86%d1%96%d1%8f-%d0%b4%d0%bb%d1%8f-%d0%b2%d0%b8%d0%bf%d1%83%d1%81%d0%ba%d0%bd%d0%b8%d0%ba%d1%96%d0%b2-%d0%b4%d0%b5%d0%bd%d0%bd%d0%be%d0%b3%d0%be-%d1%82/
X-WR-CALDESC:Інформація для випускників денного та заочного відділень Київської духовної академії і семінарії
BEGIN:VEVENT
DTSTART:20200504T203000
DTEND:20200504T203000
SUMMARY:Інформація для випускників денного та заочного відділень Київської духовної академії і семінарії
DESCRIPTION:Графік подачі випускних кваліфікаційних робіт для студентів денної і заочної форми навчань залишається незмінним.
LOCATION:
END:VEVENT
END:VCALENDAR
