BEGIN:VCALENDAR
VERSION:2.0
PRODID:-//КДАіС
CALSCALE:GREGORIAN
METHOD:PUBLISH
X-WR-CALNAME:КДАіС
X-ORIGINAL-URL:https://kdais.kiev.ua/event/%d0%a3-75-%d1%82%d1%83-%d1%80%d1%96%d1%87%d0%bd%d0%b8%d1%86%d1%8e-%d0%9f%d0%b5%d1%80%d0%b5%d0%bc%d0%be%d0%b3%d0%b8-%d0%b2-%d1%80%d0%b5%d0%ba%d1%82%d0%be%d1%80-%d0%9a%d0%94%d0%90-%d0%b7%d0%b2%d0%b5/
X-WR-CALDESC:У 75-ту річницю Перемоги ректор КДА звершив панахиду за спочилими воїнами у Другій світовій війні (+відео)
BEGIN:VEVENT
DTSTART:20200509T203000
DTEND:20200509T203000
SUMMARY:У 75-ту річницю Перемоги ректор КДА звершив панахиду за спочилими воїнами у Другій світовій війні (+відео)
DESCRIPTION:Заупокійне богослужіння було звершено в Академічному храмі на честь Різдва Божої Матері.
LOCATION:
END:VEVENT
END:VCALENDAR
