BEGIN:VCALENDAR
VERSION:2.0
PRODID:-//КДАіС
CALSCALE:GREGORIAN
METHOD:PUBLISH
X-WR-CALNAME:КДАіС
X-ORIGINAL-URL:https://kdais.kiev.ua/event/%d0%84%d0%bf%d0%b8%d1%81%d0%ba%d0%be%d0%bf-%d0%91%d1%96%d0%bb%d0%be%d0%b3%d0%be%d1%80%d0%be%d0%b4%d1%81%d1%8c%d0%ba%d0%b8%d0%b9-%d0%a1%d0%b8%d0%bb%d1%8c%d0%b2%d0%b5%d1%81%d1%82%d1%80-%d0%a1%d1%82/
X-WR-CALDESC:&#8220;История может повториться. И ни как трагедия, и уж тем более ни как фарс. История может повториться как отречение от памяти убиенных, как отречение от Бога, как новое идолопоклонство&#8221;
BEGIN:VEVENT
DTSTART:20200516T203000
DTEND:20200516T203000
SUMMARY:&#8220;История может повториться. И ни как трагедия, и уж тем более ни как фарс. История может повториться как отречение от памяти убиенных, как отречение от Бога, как новое идолопоклонство&#8221;
DESCRIPTION:Слово ректора Киевской духовной академии и семинарии епископа Белогородского Сильвестра в День памяти жертв политических репрессий.
LOCATION:
END:VEVENT
END:VCALENDAR
