BEGIN:VCALENDAR
VERSION:2.0
PRODID:-//КДАіС
CALSCALE:GREGORIAN
METHOD:PUBLISH
X-WR-CALNAME:КДАіС
X-ORIGINAL-URL:https://kdais.kiev.ua/event/%d0%9d%d0%b5%d0%b4%d1%96%d0%bb%d1%8f-5-%d1%82%d0%b0-%d0%bf%d1%96%d1%81%d0%bb%d1%8f-%d0%9f%d0%b0%d1%81%d1%85%d0%b8-%d0%bf%d1%80%d0%be-%d1%81%d0%b0%d0%bc%d0%b0%d1%80%d1%8f%d0%bd%d0%ba%d1%83-%d0%92/
X-WR-CALDESC:Неділя 5-та після Пасхи, про самарянку. День вшанування жертв політичних репресій
BEGIN:VEVENT
DTSTART:20200517T203000
DTEND:20200517T203000
SUMMARY:Неділя 5-та після Пасхи, про самарянку. День вшанування жертв політичних репресій
DESCRIPTION:Божественну літургію в Академічному храмі на честь Різдва Божої Матері звершили ректор КДАіС єпископ Білогородський Сильвестр та проректор з виховної роботи єпископ Згурівський Амвросій.
LOCATION:
END:VEVENT
END:VCALENDAR
