BEGIN:VCALENDAR
VERSION:2.0
PRODID:-//КДАіС
CALSCALE:GREGORIAN
METHOD:PUBLISH
X-WR-CALNAME:КДАіС
X-ORIGINAL-URL:https://kdais.kiev.ua/event/%d0%90%d0%ba%d0%b0%d0%b4%d0%b5%d0%bc%d1%96%d1%8f-%d0%bf%d1%80%d0%be%d0%b2%d0%be%d0%b4%d0%b8%d1%82%d1%8c-%d0%be%d0%bd%d0%bb%d0%b0%d0%b9%d0%bd-%d0%b2%d0%b8%d1%81%d1%82%d0%b0%d0%b2%d0%ba%d1%83-%d0%90/
X-WR-CALDESC:Академія проводить онлайн-виставку Антимінсів ХІХ-ХХ стт. з фондів Церковно-археологічного музею
BEGIN:VEVENT
DTSTART:20200518T203000
DTEND:20200518T203000
SUMMARY:Академія проводить онлайн-виставку Антимінсів ХІХ-ХХ стт. з фондів Церковно-археологічного музею
DESCRIPTION:Виставка приурочена до Міжнародного дня музеїв.
LOCATION:
END:VEVENT
END:VCALENDAR
