BEGIN:VCALENDAR
VERSION:2.0
PRODID:-//КДАіС
CALSCALE:GREGORIAN
METHOD:PUBLISH
X-WR-CALNAME:КДАіС
X-ORIGINAL-URL:https://kdais.kiev.ua/event/%d0%92%d1%96%d1%82%d0%b0%d1%94%d0%bc%d0%be-%d0%bf%d1%80%d0%be%d1%84%d0%b5%d1%81%d0%be%d1%80%d0%b0-%d0%bf%d1%80%d0%be%d1%82%d0%be%d1%96%d1%94%d1%80%d0%b5%d1%8f-%d0%9c%d0%b8%d0%ba%d0%be%d0%bb%d0%b0-2/
X-WR-CALDESC:Вітаємо професора протоієрея Миколая Данилевича з Днем народження та Днем Ангела!
BEGIN:VEVENT
DTSTART:20200522T203000
DTEND:20200522T203000
SUMMARY:Вітаємо професора протоієрея Миколая Данилевича з Днем народження та Днем Ангела!
DESCRIPTION:Дорогий отче, прийміть щирі вітання Київських духовних шкіл!
LOCATION:
END:VEVENT
END:VCALENDAR
