BEGIN:VCALENDAR
VERSION:2.0
PRODID:-//КДАіС
CALSCALE:GREGORIAN
METHOD:PUBLISH
X-WR-CALNAME:КДАіС
X-ORIGINAL-URL:https://kdais.kiev.ua/event/%d0%9d%d0%b0-%d0%ba%d0%b0%d1%84%d0%b5%d0%b4%d1%80%d1%96-%d0%b1%d0%be%d0%b3%d0%be%d1%81%d0%bb%d0%be%d0%b2%d1%8f-%d1%96-%d0%b1%d1%96%d0%b1%d0%bb%d0%b5%d1%97%d1%81%d1%82%d0%b8%d0%ba%d0%b8-%d0%b2/
X-WR-CALDESC:На кафедрі богослов’я і біблеїстики відбувся онлайн передзахист кандидатської дисертації
BEGIN:VEVENT
DTSTART:20200526T203000
DTEND:20200526T203000
SUMMARY:На кафедрі богослов’я і біблеїстики відбувся онлайн передзахист кандидатської дисертації
DESCRIPTION:Аспірант КДА ієромонах Митрофан (Божко) представив на передзахист роботу на тему: «Субъективная сотериология в богословском наследии митрополита Киевского святителя Петра Могилы».
LOCATION:
END:VEVENT
END:VCALENDAR
