BEGIN:VCALENDAR
VERSION:2.0
PRODID:-//КДАіС
CALSCALE:GREGORIAN
METHOD:PUBLISH
X-WR-CALNAME:КДАіС
X-ORIGINAL-URL:https://kdais.kiev.ua/event/bohosluzhinnya-nedilya-7-310502020/
X-WR-CALDESC:В Академії звершена Літургія у Неділю 7-му після Пасхи
BEGIN:VEVENT
DTSTART:20200531T203000
DTEND:20200531T203000
SUMMARY:В Академії звершена Літургія у Неділю 7-му після Пасхи
DESCRIPTION:Богослужіння звершили єпископ Білогородський Сильвестр та єпископ Згурівський Амвросій.
LOCATION:
END:VEVENT
END:VCALENDAR
