BEGIN:VCALENDAR
VERSION:2.0
PRODID:-//КДАіС
CALSCALE:GREGORIAN
METHOD:PUBLISH
X-WR-CALNAME:КДАіС
X-ORIGINAL-URL:https://kdais.kiev.ua/event/%d0%a1%d1%82%d0%b0%d1%80%d1%82%d1%83%d0%b2%d0%b0%d0%b2-%d0%ba%d0%be%d0%bd%d0%ba%d1%83%d1%80%d1%81-%d0%bd%d0%b0-%d0%ba%d1%80%d0%b0%d1%89%d1%83-%d0%bf%d1%80%d0%be%d0%bf%d0%be%d0%b2%d1%96%d0%b4%d1%8c/
X-WR-CALDESC:Стартував конкурс на кращу проповідь серед учнів Київських духовних шкіл
BEGIN:VEVENT
DTSTART:20200624T203000
DTEND:20200624T203000
SUMMARY:Стартував конкурс на кращу проповідь серед учнів Київських духовних шкіл
DESCRIPTION:Конкурс триває до 25 серпня 2020 року.
LOCATION:
END:VEVENT
END:VCALENDAR
