BEGIN:VCALENDAR
VERSION:2.0
PRODID:-//КДАіС
CALSCALE:GREGORIAN
METHOD:PUBLISH
X-WR-CALNAME:КДАіС
X-ORIGINAL-URL:https://kdais.kiev.ua/event/%d0%9f%d1%80%d0%b5%d0%b4%d1%81%d1%82%d0%b0%d0%b2%d0%bd%d0%b8%d0%ba-%d0%90%d0%ba%d0%b0%d0%b4%d0%b5%d0%bc%d1%96%d1%97-%d0%b2%d0%b7%d1%8f%d0%b2-%d1%83%d1%87%d0%b0%d1%81%d1%82%d1%8c-%d1%83-%d0%b7%d0%b0/
X-WR-CALDESC:Представник Академії взяв участь у засіданні Центрального Правління Українського Біблійного Товариства
BEGIN:VEVENT
DTSTART:20200624T203000
DTEND:20200624T203000
SUMMARY:Представник Академії взяв участь у засіданні Центрального Правління Українського Біблійного Товариства
DESCRIPTION:Професор протоієрей Ростислав Снігірьов взяв участь у засіданні, присвяченому презентації перекладу Біблії українською мовою.
LOCATION:
END:VEVENT
END:VCALENDAR
