BEGIN:VCALENDAR
VERSION:2.0
PRODID:-//КДАіС
CALSCALE:GREGORIAN
METHOD:PUBLISH
X-WR-CALNAME:КДАіС
X-ORIGINAL-URL:https://kdais.kiev.ua/event/%d0%92-%d0%90%d0%ba%d0%b0%d0%b4%d0%b5%d0%bc%d1%96%d1%97-%d0%bf%d1%80%d0%be%d1%85%d0%be%d0%b4%d0%b8%d1%82%d1%8c-%d0%86%d0%a5-%d1%89%d0%be%d1%80%d1%96%d1%87%d0%bd%d0%b0-%d1%81%d1%82%d1%83%d0%b4%d0%b5/
X-WR-CALDESC:В Академії проходить ІХ щорічна студентська конференція
BEGIN:VEVENT
DTSTART:20180313T213000
DTEND:20180313T213000
SUMMARY:В Академії проходить ІХ щорічна студентська конференція
DESCRIPTION:Цьогоріч конференцію присвячено 100-річчю з дня мученицької смерті священномученика Володимира (Богоявленського), митрополита Київського і Галицького.
LOCATION:
END:VEVENT
END:VCALENDAR
