BEGIN:VCALENDAR
VERSION:2.0
PRODID:-//КДАіС
CALSCALE:GREGORIAN
METHOD:PUBLISH
X-WR-CALNAME:КДАіС
X-ORIGINAL-URL:https://kdais.kiev.ua/event/%d0%97%d0%b2%d0%b5%d1%80%d1%88%d0%b5%d0%bd%d0%be-%d0%bf%d0%be%d1%81%d1%82%d1%80%d0%b8%d0%b3-%d1%83-%d1%87%d0%b8%d1%82%d1%86%d1%96%d0%b2-%d0%b2%d0%b8%d1%85%d0%be%d0%b2%d0%b0%d0%bd%d1%86%d1%96%d0%b2-4/
X-WR-CALDESC:Звершено постриг у читці вихованців 4-го класу Київської духовної семінарії
BEGIN:VEVENT
DTSTART:20200728T203000
DTEND:20200728T203000
SUMMARY:Звершено постриг у читці вихованців 4-го класу Київської духовної семінарії
DESCRIPTION:Перед початком урочистої Літургії, в Успенському соборі Києво-Печерської Лаври Предстоятель УПЦ звершив традиційний постриг у читці випускників Семінарії.
LOCATION:
END:VEVENT
END:VCALENDAR
