BEGIN:VCALENDAR
VERSION:2.0
PRODID:-//КДАіС
CALSCALE:GREGORIAN
METHOD:PUBLISH
X-WR-CALNAME:КДАіС
X-ORIGINAL-URL:https://kdais.kiev.ua/event/%d0%a0%d0%b5%d0%ba%d1%82%d0%be%d1%80-%d1%82%d0%b0-%d0%b2%d0%b8%d0%ba%d0%bb%d0%b0%d0%b4%d0%b0%d1%87%d1%96-%d0%9a%d0%94%d0%90%d1%96%d0%a1-%d0%b2%d0%b7%d1%8f%d0%bb%d0%b8-%d1%83%d1%87%d0%b0%d1%81%d1%82/
X-WR-CALDESC:Ректор та викладачі КДАіС взяли участь у Міжнародному телефорумі на телеканалі «112 Україна» (+відео)
BEGIN:VEVENT
DTSTART:20200728T203000
DTEND:20200728T203000
SUMMARY:Ректор та викладачі КДАіС взяли участь у Міжнародному телефорумі на телеканалі «112 Україна» (+відео)
DESCRIPTION:Ефір було присвячено 1032-ій річниці Хрещення Русі.
LOCATION:
END:VEVENT
END:VCALENDAR
