BEGIN:VCALENDAR
VERSION:2.0
PRODID:-//КДАіС
CALSCALE:GREGORIAN
METHOD:PUBLISH
X-WR-CALNAME:КДАіС
X-ORIGINAL-URL:https://kdais.kiev.ua/event/%d0%a5%d0%be%d1%80-%d0%9a%d0%94%d0%90%d1%96%d0%a1-%d0%b2%d0%b8%d1%81%d1%82%d1%83%d0%bf%d0%b8%d0%b2-%d0%bd%d0%b0-%d0%ba%d0%be%d0%bd%d1%86%d0%b5%d1%80%d1%82%d1%96-%d0%bf%d1%80%d0%b8%d1%81%d0%b2%d1%8f/
X-WR-CALDESC:Хор КДАіС виступив на концерті, присвяченому 1032-ій річниці Хрещення Русі (+відео)
BEGIN:VEVENT
DTSTART:20200729T203000
DTEND:20200729T203000
SUMMARY:Хор КДАіС виступив на концерті, присвяченому 1032-ій річниці Хрещення Русі (+відео)
DESCRIPTION:Концерт транслювався на українському телеканалі «НАШ».
LOCATION:
END:VEVENT
END:VCALENDAR
