BEGIN:VCALENDAR
VERSION:2.0
PRODID:-//КДАіС
CALSCALE:GREGORIAN
METHOD:PUBLISH
X-WR-CALNAME:КДАіС
X-ORIGINAL-URL:https://kdais.kiev.ua/event/40-den-smerti-mitropolita-sofroniya/
X-WR-CALDESC:Єпископ Білогородський Сильвестр взяв участь у богослужінні у 40-й день упокоєння митрополита Черкаського і Канівського Софронія
BEGIN:VEVENT
DTSTART:20200731T203000
DTEND:20200731T203000
SUMMARY:Єпископ Білогородський Сильвестр взяв участь у богослужінні у 40-й день упокоєння митрополита Черкаського і Канівського Софронія
DESCRIPTION:Богослужіння було звершено в кафедральному соборі на честь Архангела Михаїла міста Черкаси.
LOCATION:
END:VEVENT
END:VCALENDAR
