BEGIN:VCALENDAR
VERSION:2.0
PRODID:-//КДАіС
CALSCALE:GREGORIAN
METHOD:PUBLISH
X-WR-CALNAME:КДАіС
X-ORIGINAL-URL:https://kdais.kiev.ua/event/7433/
X-WR-CALDESC:Вітальне слово Блаженнішого Митрополита Онуфрія учасникам ІХ студентської конференції
BEGIN:VEVENT
DTSTART:20180313T213000
DTEND:20180313T213000
SUMMARY:Вітальне слово Блаженнішого Митрополита Онуфрія учасникам ІХ студентської конференції
DESCRIPTION:Предстоятель Української Православної Церкви звернувся до організаторів та учасників ІХ щорічної студентської конференції.
LOCATION:
END:VEVENT
END:VCALENDAR
