BEGIN:VCALENDAR
VERSION:2.0
PRODID:-//КДАіС
CALSCALE:GREGORIAN
METHOD:PUBLISH
X-WR-CALNAME:КДАіС
X-ORIGINAL-URL:https://kdais.kiev.ua/event/den-pamyiati-proroka-illi-02082020/
X-WR-CALDESC:Київські духовні школи молитовно вшанували день пам’яті прор. Іллі
BEGIN:VEVENT
DTSTART:20200802T203000
DTEND:20200802T203000
SUMMARY:Київські духовні школи молитовно вшанували день пам’яті прор. Іллі
DESCRIPTION:Ректор КДАіС співслужив Предстоятелю УПЦ за Літургією у Свято-Іллінському храмі м. Києва.
LOCATION:
END:VEVENT
END:VCALENDAR
