BEGIN:VCALENDAR
VERSION:2.0
PRODID:-//КДАіС
CALSCALE:GREGORIAN
METHOD:PUBLISH
X-WR-CALNAME:КДАіС
X-ORIGINAL-URL:https://kdais.kiev.ua/event/%d0%92-%d0%9a%d0%94%d0%90-%d0%bf%d0%be%d0%bc%d0%be%d0%bb%d0%b8%d0%bb%d0%b8%d1%81%d1%8c-%d0%b7%d0%b0-%d1%83%d0%bf%d0%be%d0%ba%d1%96%d0%b9-%d0%bf%d1%80%d0%be%d1%82%d0%be%d1%96%d1%94%d1%80%d0%b5%d1%8f/
X-WR-CALDESC:В КДА помолились за упокій протоієрея Миколая Забуги
BEGIN:VEVENT
DTSTART:20180313T213000
DTEND:20180313T213000
SUMMARY:В КДА помолились за упокій протоієрея Миколая Забуги
DESCRIPTION:Літію з нагоди річниці від Дня народження колишнього ректора КДА очолив митрополит Бориспільський і Броварський Антоній у співслужінні єпископа Білогородського Сильвестра.
LOCATION:
END:VEVENT
END:VCALENDAR
