BEGIN:VCALENDAR
VERSION:2.0
PRODID:-//КДАіС
CALSCALE:GREGORIAN
METHOD:PUBLISH
X-WR-CALNAME:КДАіС
X-ORIGINAL-URL:https://kdais.kiev.ua/event/rezultaty-vstupnoi-kampanii-2020/
X-WR-CALDESC:За результатами вступних іспитів до Київських духовних шкіл зараховано 249 абітурієнтів (+відео)
BEGIN:VEVENT
DTSTART:20200808T203000
DTEND:20200808T203000
SUMMARY:За результатами вступних іспитів до Київських духовних шкіл зараховано 249 абітурієнтів (+відео)
DESCRIPTION:62 абітурієнта зараховано на денне відділення Київської духовної семінарії, 20 — на денне відділення магістратури. На заочне відділення Семінарії зараховано 98 абітурієнтів, до магістратури — 69.
LOCATION:
END:VEVENT
END:VCALENDAR
