BEGIN:VCALENDAR
VERSION:2.0
PRODID:-//КДАіС
CALSCALE:GREGORIAN
METHOD:PUBLISH
X-WR-CALNAME:КДАіС
X-ORIGINAL-URL:https://kdais.kiev.ua/event/rektor-akademiyi-vzyav-uchast-u-vidkritti-vistavki-priurochenoyi-do-20-richchya-vidrodzhennya-uspenskogo-soboru-kiyevo-pecherskoyi-lavri/
X-WR-CALDESC:Ректор Академії взяв участь у відкритті виставки, приуроченої до 20-річчя відродження Успенського собору Києво-Печерської Лаври
BEGIN:VEVENT
DTSTART:20200821T203000
DTEND:20200821T203000
SUMMARY:Ректор Академії взяв участь у відкритті виставки, приуроченої до 20-річчя відродження Успенського собору Києво-Печерської Лаври
DESCRIPTION:На виставці представлені 30 експонатів, серед яких унікальні дорогоцінні речі XVII-XVIII століть, врятовані з-під руїн собору і відреставровані в післявоєнний період.
LOCATION:
END:VEVENT
END:VCALENDAR
