BEGIN:VCALENDAR
VERSION:2.0
PRODID:-//КДАіС
CALSCALE:GREGORIAN
METHOD:PUBLISH
X-WR-CALNAME:КДАіС
X-ORIGINAL-URL:https://kdais.kiev.ua/event/rektor-kdais-zvershiv-panahidu-za-zahisnikiv-ukrayini-yaki-zaginuli-v-borotbi-za-nezalezhnist-suverenitet-i-teritorialnu-cilisnist-ukrayini/
X-WR-CALDESC:Ректор КДАіС звершив панахиду за захисників України, які загинули в боротьбі за незалежність, суверенітет і територіальну цілісність України
BEGIN:VEVENT
DTSTART:20200829T203000
DTEND:20200829T203000
SUMMARY:Ректор КДАіС звершив панахиду за захисників України, які загинули в боротьбі за незалежність, суверенітет і територіальну цілісність України
DESCRIPTION:Єпископ Білогородський Сильвестр звершив заупокійне богослужіння біля Стіни пам’яті та скорботи з іменами ветеранів-афганців, які загинули під час бойових дій на Сході України, що розташована на території Академічного храму Воскресіння Христового (храму пам’яті загиблим і ветеранам Афганістану).
LOCATION:
END:VEVENT
END:VCALENDAR
