BEGIN:VCALENDAR
VERSION:2.0
PRODID:-//КДАіС
CALSCALE:GREGORIAN
METHOD:PUBLISH
X-WR-CALNAME:КДАіС
X-ORIGINAL-URL:https://kdais.kiev.ua/event/%d0%92%d1%96%d1%82%d0%b0%d1%94%d0%bc%d0%be-%d0%b4%d0%be%d1%86%d0%b5%d0%bd%d1%82%d0%b0-%d0%9a%d0%94%d0%90-%d0%b0%d1%80%d1%85%d1%96%d1%94%d0%bf%d0%b8%d1%81%d0%ba%d0%be%d0%bf%d0%b0-%d0%a7%d0%b5%d1%80/
X-WR-CALDESC:Вітаємо доцента КДА архієпископа Черкаського і Канівського Феодосія з Днем народження!
BEGIN:VEVENT
DTSTART:20200831T203000
DTEND:20200831T203000
SUMMARY:Вітаємо доцента КДА архієпископа Черкаського і Канівського Феодосія з Днем народження!
DESCRIPTION:Київські духовні школи молитовно бажають Вашій Святині всесильної допомоги Божої у високому єпископському служінні.
LOCATION:
END:VEVENT
END:VCALENDAR
