BEGIN:VCALENDAR
VERSION:2.0
PRODID:-//КДАіС
CALSCALE:GREGORIAN
METHOD:PUBLISH
X-WR-CALNAME:КДАіС
X-ORIGINAL-URL:https://kdais.kiev.ua/event/%d0%a0%d0%b5%d0%ba%d1%82%d0%be%d1%80-%d0%9a%d0%94%d0%90%d1%96%d0%a1-%d0%b7%d0%b2%d0%b5%d1%80%d1%88%d0%b8%d0%b2-%d0%91%d0%be%d0%b6%d0%b5%d1%81%d1%82%d0%b2%d0%b5%d0%bd%d0%bd%d1%83-%d0%9b%d1%96%d1%82/
X-WR-CALDESC:Ректор КДАіС звершив Божественну Літургію в Неділю 13-ту після П’ятидесятниці (+Відео)
BEGIN:VEVENT
DTSTART:20200906T203000
DTEND:20200906T203000
SUMMARY:Ректор КДАіС звершив Божественну Літургію в Неділю 13-ту після П’ятидесятниці (+Відео)
DESCRIPTION:Ректор, члени адміністрації, викладачі та учні Київських духовних шкіл молились за богослужіннями в храмах Свято-Успенської Києво-Печерської Лаври.
LOCATION:
END:VEVENT
END:VCALENDAR
