BEGIN:VCALENDAR
VERSION:2.0
PRODID:-//КДАіС
CALSCALE:GREGORIAN
METHOD:PUBLISH
X-WR-CALNAME:КДАіС
X-ORIGINAL-URL:https://kdais.kiev.ua/event/vitayemo-profesora-kda-protoiyereya-volodimira-savelyeva-z-50-richchy/
X-WR-CALDESC:Вітаємо професора КДА протоієрея Володимира Савельєва з 50-річчям!
BEGIN:VEVENT
DTSTART:20200920T203000
DTEND:20200920T203000
SUMMARY:Вітаємо професора КДА протоієрея Володимира Савельєва з 50-річчям!
DESCRIPTION:Дорогий отче Володимире, прийміть щирі вітання 50-літнім ювілеєм!
LOCATION:
END:VEVENT
END:VCALENDAR
