BEGIN:VCALENDAR
VERSION:2.0
PRODID:-//КДАіС
CALSCALE:GREGORIAN
METHOD:PUBLISH
X-WR-CALNAME:КДАіС
X-ORIGINAL-URL:https://kdais.kiev.ua/event/%d0%9f%d1%80%d0%b5%d1%81%d1%82%d0%be%d0%bb%d1%8c%d0%bd%d0%b5-%d1%81%d0%b2%d1%8f%d1%82%d0%be-%d0%90%d0%ba%d0%b0%d0%b4%d0%b5%d0%bc%d1%96%d1%87%d0%bd%d0%be%d0%b3%d0%be-%d1%85%d1%80%d0%b0%d0%bc%d1%83/
X-WR-CALDESC:Престольне свято Академічного храму на честь Різдва Божої Матері (+відео і великий фоторепортаж)
BEGIN:VEVENT
DTSTART:20200921T203000
DTEND:20200921T203000
SUMMARY:Престольне свято Академічного храму на честь Різдва Божої Матері (+відео і великий фоторепортаж)
DESCRIPTION:Божественну літургію на площі перед храмом очолив Блаженніший Митрополит Київський і всієї України Онуфрій.
LOCATION:
END:VEVENT
END:VCALENDAR
