BEGIN:VCALENDAR
VERSION:2.0
PRODID:-//КДАіС
CALSCALE:GREGORIAN
METHOD:PUBLISH
X-WR-CALNAME:КДАіС
X-ORIGINAL-URL:https://kdais.kiev.ua/event/rektor-kda-vzyav-uchast-v-osvyachenn%d1%96-m%d1%96s/
X-WR-CALDESC:Ректор КДА взяв участь в освяченні місця під будівництво храму в Київському інституті інтелектуальної власності та права
BEGIN:VEVENT
DTSTART:20200921T203000
DTEND:20200921T203000
SUMMARY:Ректор КДА взяв участь в освяченні місця під будівництво храму в Київському інституті інтелектуальної власності та права
DESCRIPTION:Чин освячення під будівництво храму на честь прп. Сергія Радонезького звершив Блаженніший Митрополит Київський і всієї України Онуфрій.
LOCATION:
END:VEVENT
END:VCALENDAR
