BEGIN:VCALENDAR
VERSION:2.0
PRODID:-//КДАіС
CALSCALE:GREGORIAN
METHOD:PUBLISH
X-WR-CALNAME:КДАіС
X-ORIGINAL-URL:https://kdais.kiev.ua/event/%d0%9f%d1%80%d0%be%d0%b3%d1%80%d0%b0%d0%bc%d0%b0-xii-%d0%9c%d1%96%d0%b6%d0%bd%d0%b0%d1%80%d0%be%d0%b4%d0%bd%d0%be%d1%97-%d0%bd%d0%b0%d1%83%d0%ba%d0%be%d0%b2%d0%be-%d0%bf%d1%80%d0%b0%d0%ba%d1%82%d0%b8/
X-WR-CALDESC:Програма XII Міжнародної науково-практичної конференції «Духовна та світська освіта: історія взаємин – сучасність – перспективи»
BEGIN:VEVENT
DTSTART:20201026T233000
DTEND:20201026T233000
SUMMARY:Програма XII Міжнародної науково-практичної конференції «Духовна та світська освіта: історія взаємин – сучасність – перспективи»
DESCRIPTION:Участь у конференції візьмуть представники світських та духовних навчальних закладів з України і з-за кордону.
LOCATION:
END:VEVENT
END:VCALENDAR
