BEGIN:VCALENDAR
VERSION:2.0
PRODID:-//КДАіС
CALSCALE:GREGORIAN
METHOD:PUBLISH
X-WR-CALNAME:КДАіС
X-ORIGINAL-URL:https://kdais.kiev.ua/event/v-akadem%d1%96%d1%97-v%d1%96dkrilas-vistavka-prisvyachena-30-r%d1%96chchyu-daruvannya-blagoslovenno%d1%97-gramoti-ukra%d1%97nsk%d1%96j-pravoslavn%d1%96j-cerkv%d1%96/
X-WR-CALDESC:В Академії відкрилась виставка, присвячена 30-річчю дарування Благословенної Грамоти Українській Православній Церкві
BEGIN:VEVENT
DTSTART:20201027T233000
DTEND:20201027T233000
SUMMARY:В Академії відкрилась виставка, присвячена 30-річчю дарування Благословенної Грамоти Українській Православній Церкві
DESCRIPTION:На виставці «Українська Православна Церква в служінні Богу і людям» представлені унікальні експонати, ордени, медалі, подарунки та листи Предстоятелів Помісних Православних Церков, рідкісні видання, сувеніри ручної роботи і численні історичні фото.
LOCATION:
END:VEVENT
END:VCALENDAR
