BEGIN:VCALENDAR
VERSION:2.0
PRODID:-//КДАіС
CALSCALE:GREGORIAN
METHOD:PUBLISH
X-WR-CALNAME:КДАіС
X-ORIGINAL-URL:https://kdais.kiev.ua/event/vihovanc%d1%96-1-go-klasu-sem%d1%96nar%d1%96%d1%97-v%d1%96dv%d1%96dali-arhangelo-mihajl%d1%96vskij-zv%d1%96rineckij-ta-tro%d1%97ckij-%d0%86oninskij-monastir%d1%96-m-ki%d1%94va-v%d1%96deo/
X-WR-CALDESC:Вихованці 1-го класу Семінарії відвідали Архангело-Михайлівський Звіринецький та Троїцький Іонинський монастирі м. Києва (+відео)
BEGIN:VEVENT
DTSTART:20201028T233000
DTEND:20201028T233000
SUMMARY:Вихованці 1-го класу Семінарії відвідали Архангело-Михайлівський Звіринецький та Троїцький Іонинський монастирі м. Києва (+відео)
DESCRIPTION:Групу супроводжував класний керівник ієромонах Афанасій (Стрельцов).
LOCATION:
END:VEVENT
END:VCALENDAR
