BEGIN:VCALENDAR
VERSION:2.0
PRODID:-//КДАіС
CALSCALE:GREGORIAN
METHOD:PUBLISH
X-WR-CALNAME:КДАіС
X-ORIGINAL-URL:https://kdais.kiev.ua/event/do-dnya-pamyat%d1%96-prp-nestora-l%d1%96topiscya-ta-soboru-svyatih-kda-vijshov-chergovij-vipusk-studentskogo-zhurnalu-akademicheskij-letopisec/
X-WR-CALDESC:До дня пам’яті прп. Нестора Літописця та Собору святих КДА вийшов черговий випуск студентського журналу «Академический Летописец»
BEGIN:VEVENT
DTSTART:20201107T233000
DTEND:20201107T233000
SUMMARY:До дня пам’яті прп. Нестора Літописця та Собору святих КДА вийшов черговий випуск студентського журналу «Академический Летописец»
DESCRIPTION:Тема 28-го випуску журнала: «Единство vs эгоизм».
LOCATION:
END:VEVENT
END:VCALENDAR
