BEGIN:VCALENDAR
VERSION:2.0
PRODID:-//КДАіС
CALSCALE:GREGORIAN
METHOD:PUBLISH
X-WR-CALNAME:КДАіС
X-ORIGINAL-URL:https://kdais.kiev.ua/event/nedilya-22-ga-pislya-pyatidesyatnici-vmch-dimitriya-solunskogo/
X-WR-CALDESC:Неділя 22-га після П’ятидесятниці, вмч. Димитрія Солунського
BEGIN:VEVENT
DTSTART:20201108T233000
DTEND:20201108T233000
SUMMARY:Неділя 22-га після П’ятидесятниці, вмч. Димитрія Солунського
DESCRIPTION:Ректор КДАіС єпископ Білогородський Сильвестр взяв участь у соборній Літургії з нагоди престольного свята храму на честь вмч. Димитрія Солунського, що у Жулянах.
LOCATION:
END:VEVENT
END:VCALENDAR
