BEGIN:VCALENDAR
VERSION:2.0
PRODID:-//КДАіС
CALSCALE:GREGORIAN
METHOD:PUBLISH
X-WR-CALNAME:КДАіС
X-ORIGINAL-URL:https://kdais.kiev.ua/event/rektor-vikladach%d1%96-ta-uchn%d1%96-kda%d1%96s-pomolilis-b%d1%96lya-moshchej-prp-nestora-l%d1%96topiscya-naperedodn%d1%96-dnya-jogo-pamyat%d1%96/
X-WR-CALDESC:Ректор, викладачі та учні КДАіС помолились біля мощей прп. Нестора Літописця напередодні дня його пам’яті
BEGIN:VEVENT
DTSTART:20201108T233000
DTEND:20201108T233000
SUMMARY:Ректор, викладачі та учні КДАіС помолились біля мощей прп. Нестора Літописця напередодні дня його пам’яті
DESCRIPTION:Святковий молебень було звершено у Хрестовоздвиженському храмі Свято-Успенської Києво-Печерської Лаври.
LOCATION:
END:VEVENT
END:VCALENDAR
