BEGIN:VCALENDAR
VERSION:2.0
PRODID:-//КДАіС
CALSCALE:GREGORIAN
METHOD:PUBLISH
X-WR-CALNAME:КДАіС
X-ORIGINAL-URL:https://kdais.kiev.ua/event/urochiste-vsen%d1%96chne-bd%d1%96nnya-naperedodn%d1%96-dnya-pamyat%d1%96-prp-nestora-l%d1%96topiscya-ta-soboru-svyatih-kda/
X-WR-CALDESC:Урочисте Всенічне бдіння напередодні дня пам’яті прп. Нестора Літописця та Собору святих КДА
BEGIN:VEVENT
DTSTART:20201108T233000
DTEND:20201108T233000
SUMMARY:Урочисте Всенічне бдіння напередодні дня пам’яті прп. Нестора Літописця та Собору святих КДА
DESCRIPTION:Соборне богослужіння в Успенському соборі Києво-Печерської Лаври очолив Блаженніший Митрополит Київський і всієї України Онуфрій.
LOCATION:
END:VEVENT
END:VCALENDAR
