BEGIN:VCALENDAR
VERSION:2.0
PRODID:-//КДАіС
CALSCALE:GREGORIAN
METHOD:PUBLISH
X-WR-CALNAME:КДАіС
X-ORIGINAL-URL:https://kdais.kiev.ua/event/v-akadem%d1%96%d1%97-molitovno-vshanuvali-den-pamyat%d1%96-prepodobnogo-nestora-l%d1%96topiscya-ta-soboru-svyatih-kda/
X-WR-CALDESC:В Академії молитовно вшанували день пам’яті преподобного Нестора Літописця та Собору святих КДА (+ВІДЕО)
BEGIN:VEVENT
DTSTART:20201109T233000
DTEND:20201109T233000
SUMMARY:В Академії молитовно вшанували день пам’яті преподобного Нестора Літописця та Собору святих КДА (+ВІДЕО)
DESCRIPTION:Урочисте богослужіння очолив Предстоятель Української Православної Церкви Блаженніший Митрополит Київський і всієї України Онуфрій.
LOCATION:
END:VEVENT
END:VCALENDAR
