BEGIN:VCALENDAR
VERSION:2.0
PRODID:-//КДАіС
CALSCALE:GREGORIAN
METHOD:PUBLISH
X-WR-CALNAME:КДАіС
X-ORIGINAL-URL:https://kdais.kiev.ua/event/v-akadem%d1%96%d1%97-pomolilis-u-9-j-den-upoko%d1%94nnya-arh%d1%96mandrita-aristarha-lebed%d1%94va/
X-WR-CALDESC:В Академії помолились у 9-й день упокоєння архімандрита Аристарха (Лебедєва)
BEGIN:VEVENT
DTSTART:20201112T233000
DTEND:20201112T233000
SUMMARY:В Академії помолились у 9-й день упокоєння архімандрита Аристарха (Лебедєва)
DESCRIPTION:Богослужіння очолив вікарій Київської Митрополії єпископ Ірпінський Лавр.
LOCATION:
END:VEVENT
END:VCALENDAR
