BEGIN:VCALENDAR
VERSION:2.0
PRODID:-//КДАіС
CALSCALE:GREGORIAN
METHOD:PUBLISH
X-WR-CALNAME:КДАіС
X-ORIGINAL-URL:https://kdais.kiev.ua/event/vsen%d1%96chne-bd%d1%96nnya-naperedodn%d1%96-ned%d1%96l%d1%96-26-%d1%97-p%d1%96slya-pyatidesyatnic%d1%96/
X-WR-CALDESC:Всенічне бдіння напередодні Неділі 26-ї після П’ятидесятниці
BEGIN:VEVENT
DTSTART:20201205T233000
DTEND:20201205T233000
SUMMARY:Всенічне бдіння напередодні Неділі 26-ї після П’ятидесятниці
DESCRIPTION:Богослужіння звершили єпископ Білогородський Сильвестр та єпископ Згурівський Амвросій.
LOCATION:
END:VEVENT
END:VCALENDAR
