BEGIN:VCALENDAR
VERSION:2.0
PRODID:-//КДАіС
CALSCALE:GREGORIAN
METHOD:PUBLISH
X-WR-CALNAME:КДАіС
X-ORIGINAL-URL:https://kdais.kiev.ua/event/vitanniya-blazhennishomu-onufriuy/
X-WR-CALDESC:Київські духовні школи вітають Блаженнішого Митрополита Онуфрія з 30-літтям єпископської хіротонії!
BEGIN:VEVENT
DTSTART:20201209T233000
DTEND:20201209T233000
SUMMARY:Київські духовні школи вітають Блаженнішого Митрополита Онуфрія з 30-літтям єпископської хіротонії!
DESCRIPTION:Ваше Блаженство, дорогий наш Первосвятителю, прийміть щирі вітання з нагоди 30-ліття єпископської хіротонії!
LOCATION:
END:VEVENT
END:VCALENDAR
