BEGIN:VCALENDAR
VERSION:2.0
PRODID:-//КДАіС
CALSCALE:GREGORIAN
METHOD:PUBLISH
X-WR-CALNAME:КДАіС
X-ORIGINAL-URL:https://kdais.kiev.ua/event/liturgiya-20122020/
X-WR-CALDESC:Єпископ Сильвестр звершив дияконську хіротонію за богослужінням у Неділю 28-му після П’ятидесятниці
BEGIN:VEVENT
DTSTART:20201220T233000
DTEND:20201220T233000
SUMMARY:Єпископ Сильвестр звершив дияконську хіротонію за богослужінням у Неділю 28-му після П’ятидесятниці
DESCRIPTION:За Божественною літургією владика ректор звершив дияконську хіротонію аспіранта КДА монаха Олександра (Грицана).
LOCATION:
END:VEVENT
END:VCALENDAR
