BEGIN:VCALENDAR
VERSION:2.0
PRODID:-//КДАіС
CALSCALE:GREGORIAN
METHOD:PUBLISH
X-WR-CALNAME:КДАіС
X-ORIGINAL-URL:https://kdais.kiev.ua/event/bdinnya-261220/
X-WR-CALDESC:Всенічне бдіння напередодні Неділі 29-ої після П’ятидесятниці
BEGIN:VEVENT
DTSTART:20201226T233000
DTEND:20201226T233000
SUMMARY:Всенічне бдіння напередодні Неділі 29-ої після П’ятидесятниці
DESCRIPTION:Богослужіння в Академічному храмі звершив Керуючий справами УПЦ митрополит Бориспільський і Броварський Антоній у співслужінні проректора з виховної роботи єпископа Згурівського Амвросія. 

LOCATION:
END:VEVENT
END:VCALENDAR
