BEGIN:VCALENDAR
VERSION:2.0
PRODID:-//КДАіС
CALSCALE:GREGORIAN
METHOD:PUBLISH
X-WR-CALNAME:КДАіС
X-ORIGINAL-URL:https://kdais.kiev.ua/event/%d0%9e%d1%84%d1%96%d1%86%d1%96%d0%b9%d0%bd%d0%b0-%d0%b7%d1%83%d1%81%d1%82%d1%80%d1%96%d1%87-%d1%80%d0%b5%d0%ba%d1%82%d0%be%d1%80%d0%b0-%d0%90%d0%ba%d0%b0%d0%b4%d0%b5%d0%bc%d1%96%d1%97/
X-WR-CALDESC:Ректор Академії зустрівся з деканом філософського факультету КНУ ім. Т. Шевченка
BEGIN:VEVENT
DTSTART:20180316T213000
DTEND:20180316T213000
SUMMARY:Ректор Академії зустрівся з деканом філософського факультету КНУ ім. Т. Шевченка
DESCRIPTION:Єпископ Білогородський Сильвестр зустрівся з деканом філософського факультету Київського національного університету імені Тараса Шевченка А.Є. Конверським.
LOCATION:
END:VEVENT
END:VCALENDAR
