BEGIN:VCALENDAR
VERSION:2.0
PRODID:-//КДАіС
CALSCALE:GREGORIAN
METHOD:PUBLISH
X-WR-CALNAME:КДАіС
X-ORIGINAL-URL:https://kdais.kiev.ua/event/19012021/
X-WR-CALDESC:Свято Богоявлення, Хрещення Господа Бога і Спаса нашого Іісуса Христа (+фоторепортаж)
BEGIN:VEVENT
DTSTART:20210119T233000
DTEND:20210119T233000
SUMMARY:Свято Богоявлення, Хрещення Господа Бога і Спаса нашого Іісуса Христа (+фоторепортаж)
DESCRIPTION:Ректор єпископ Білогородський Сильвестр, члени адміністрації, викладачі, співробітники та студенти Київських духовних шкіл молились за святковими богослужіннями у храмах Свято-Успенської Києво-Печерської Лаври.
LOCATION:
END:VEVENT
END:VCALENDAR
